BEGIN:VCALENDAR
VERSION:2.0
CALSCALE:GREGORIAN
BEGIN:VEVENT
SUMMARY:NEU 5 Termine: Yoga meets Pilates
DTSTART;TZID=Europe/Amsterdam:20250129T180000
DTEND;TZID=Europe/Amsterdam:20250129T190000
LOCATION:Y O G A - SCHULE Gabriele Schlitt
DESCRIPTION: In diesem neuen Kurs vereinen wir die ganzheitliche Praxis des Yoga mit den fokussierten Übungen aus Pilates. Während Yoga Körper, Geist und Seele durch Atemführung, Körperübungen und Meditation in Einklang bringt, stärkt Pilates gezielt die Körpermitte, verbessert die Haltung und fördert Kraft und Flexibilität.
STATUS:CONFIRMED
SEQUENCE:0
END:VEVENT
END:VCALENDAR