BEGIN:VCALENDAR
VERSION:2.0
CALSCALE:GREGORIAN
BEGIN:VEVENT
SUMMARY:Yoga
DTSTART;TZID=Europe/London:20260429T100000
DTEND;TZID=Europe/London:20260429T110000
LOCATION:94a New Road Side. Horsforth. Leeds. LS18 4QB
DESCRIPTION: 
STATUS:CONFIRMED
SEQUENCE:0
END:VEVENT
END:VCALENDAR