BEGIN:VCALENDAR
VERSION:2.0
CALSCALE:GREGORIAN
BEGIN:VEVENT
SUMMARY:BBB buik, benen en billen
DTSTART;TZID=Europe/Amsterdam:20260507T190000
DTEND;TZID=Europe/Amsterdam:20260507T200000
LOCATION:Zandvaart 57D
DESCRIPTION: De BBB les is een energieke groeples die zich richt op het verstevigen van de spieren in de &quot;drie B&#039;s&quot;, buiken, benen en billen. Door een combinatie van kracht en cardio oefeningen werk je aan een strakker figuur en verbeterende conditie. De les wordt gegeven op muziek.
STATUS:CONFIRMED
SEQUENCE:0
END:VEVENT
END:VCALENDAR