BEGIN:VCALENDAR
VERSION:2.0
CALSCALE:GREGORIAN
BEGIN:VEVENT
SUMMARY:Het Klankschalen Ligconcert €20
DTSTART;TZID=Europe/Amsterdam:20230617T093000
DTEND;TZID=Europe/Amsterdam:20230617T110000
LOCATION:Hankweg 103 Pijnacker Yoga Studio
DESCRIPTION: Een klanken healing waarbij je heerlijk ontspannen op een yoga mat ligt en subtiel klanken over je heen laat komen. Betaling van €20,- volgt na deze boeking via WhatsApp of e-mail. Tot een week van tevoren kan je kosteloos annuleren.
STATUS:CONFIRMED
SEQUENCE:0
END:VEVENT
END:VCALENDAR