BEGIN:VCALENDAR
VERSION:2.0
CALSCALE:GREGORIAN
BEGIN:VEVENT
SUMMARY:Yoga sanft
DTSTART;TZID=Europe/Berlin:20250724T170000
DTEND;TZID=Europe/Berlin:20250724T183000
LOCATION:Yoga Svaha Institut
DESCRIPTION: Hatha und Yin
STATUS:CONFIRMED
SEQUENCE:0
END:VEVENT
END:VCALENDAR