BEGIN:VCALENDAR
VERSION:2.0
CALSCALE:GREGORIAN
BEGIN:VEVENT
SUMMARY:Yoga für Schwangere
DTSTART;TZID=Europe/Berlin:20250317T094500
DTEND;TZID=Europe/Berlin:20250317T111500
LOCATION:Yoga Svaha Institut
DESCRIPTION: 
STATUS:CONFIRMED
SEQUENCE:0
END:VEVENT
END:VCALENDAR