BEGIN:VCALENDAR
VERSION:2.0
CALSCALE:GREGORIAN
BEGIN:VEVENT
SUMMARY:Rücken Yoga
DTSTART;TZID=Europe/Berlin:20250311T171500
DTEND;TZID=Europe/Berlin:20250311T184500
LOCATION:Yoga Svaha Institut
DESCRIPTION: 
STATUS:CONFIRMED
SEQUENCE:0
END:VEVENT
END:VCALENDAR