BEGIN:VCALENDAR
VERSION:2.0
CALSCALE:GREGORIAN
BEGIN:VEVENT
SUMMARY:End of Year Vinyasa Flow ✨
DTSTART;TZID=Europe/Berlin:20251230T180000
DTEND;TZID=Europe/Berlin:20251230T193000
LOCATION:Yoga Svaha Institut
DESCRIPTION: Zu viel gedacht, zu wenig geatmet?
Dieser Flow hilft dir, das Jahr locker abzuschütteln, Ballast loszulassen und mit frischer Energie ins Neue zu fließen. Abschalten, durchatmen, durchstarten 💕
STATUS:CONFIRMED
SEQUENCE:0
END:VEVENT
END:VCALENDAR