BEGIN:VCALENDAR
VERSION:2.0
CALSCALE:GREGORIAN
BEGIN:VEVENT
SUMMARY:Vinyasa Power Yoga
DTSTART;TZID=Europe/Berlin:20261005T194500
DTEND;TZID=Europe/Berlin:20261005T211500
LOCATION:Yoga Svaha Institut
DESCRIPTION: Dynamisches Kraftvolles Power Yoga für Yoga mit sportlicher Ausrichtung.
STATUS:CONFIRMED
SEQUENCE:0
END:VEVENT
END:VCALENDAR