BEGIN:VCALENDAR
VERSION:2.0
CALSCALE:GREGORIAN
BEGIN:VEVENT
SUMMARY:SAMHAIN-  Totenfest / Halloween
DTSTART;TZID=Europe/Amsterdam:20231031T190000
DTEND;TZID=Europe/Amsterdam:20231031T220000
LOCATION:Yoga up your life, Sandstraße 130, 51379 Leverkusen
DESCRIPTION: Yin Yoga: „Altes Loslassen“
STATUS:CONFIRMED
SEQUENCE:0
END:VEVENT
END:VCALENDAR