BEGIN:VCALENDAR
VERSION:2.0
CALSCALE:GREGORIAN
BEGIN:VEVENT
SUMMARY:Breathwork Zeremonie mit Rike
DTSTART;TZID=Europe/Amsterdam:20240407T110000
DTEND;TZID=Europe/Amsterdam:20240407T140000
LOCATION:Yoga up your life
DESCRIPTION: Unser modernes Leben hat uns soweit von unserer wahren Natur weg gebracht, dass wir die Verbindung zu uns selbst und allem was ist, verloren haben. Gestresst jagen wir durch den Alltag, verstricken uns in Gedanken und haben uns von unseren Gefühlen, unserem Körper und unserem wahren Sein entzweit. Dabei trägt jeder von uns eine innere Weisheit in sich, die nur darauf wartet wieder entdeckt zu werden.

Breathwork nach der bewussten, verbundenen Atmung kann dir das Tor zu dieser Weisheit öffnen, dir ermöglichen im Hier und Jetzt anzukommen und dich in der Tiefe mit ihr zu verbinden – lang verdrängte Gefühle, dir nicht mehr dienliche Verhaltensweisen sowie tiefe, innere Erkenntnisse können ins Licht rücken, sodass durch reines Gewahrsein und Bewusstwerdung ganz von selbst inneres Wachstum, Selbstheilung und die Rückverbindung zu deiner wahren Natur geschehen kann.

Bist du bereit dich selbst in der Tiefe zu ergründen und dir  wahrhaftig gegenüber zu treten.
www.herzhoeren.com/termine/
STATUS:CONFIRMED
SEQUENCE:0
END:VEVENT
END:VCALENDAR