BEGIN:VCALENDAR
VERSION:2.0
CALSCALE:GREGORIAN
BEGIN:VEVENT
SUMMARY:Yogas heilige Morgenpraxis- Dein yogischer Jahresabschluss
DTSTART;TZID=Europe/Amsterdam:20231230T090000
DTEND;TZID=Europe/Amsterdam:20231230T101500
LOCATION:Yoga up your life: Sandstraße 130, 51379 Leverkusen
DESCRIPTION: Diese Yogastunde ist „anders„! Denn wir gehen aus dem Tun ins Sein und verbinden uns mit der ursprünglichen Energie der aktuellen heiligen (Rau)Nächte. Kein Jahresendspurt, sondern ein Tiefes Tauchen in den Raum der Möglichkeiten. 

Wir öffnen den Raum zum Ende des Dezembers in der uralten Weisheit der Raunächte. 
Du verbindest dich mit den uralten Rhythmen, erinnerst dich an deine innere Weisheit. 
Durch diese Yogastunde kannst du das neue Jahr stimmig begrüßen, so dass es für dich passt.
STATUS:CONFIRMED
SEQUENCE:0
END:VEVENT
END:VCALENDAR