BEGIN:VCALENDAR
VERSION:2.0
CALSCALE:GREGORIAN
BEGIN:VEVENT
SUMMARY:Energie Yoga auf Basis der Kundalini Tradition
DTSTART;TZID=Europe/Amsterdam:20240403T183000
DTEND;TZID=Europe/Amsterdam:20240403T194500
LOCATION:Yoga up your life
DESCRIPTION: Yoga zur Stärkung deines Körpers &amp;amp; Stabilisierung deines Geistes.
Asanas, Meditationen und Yogaflows, um deinen Körper zu entgiften und dein Nervensystem zu stärken. Angelehnt an die Tradition des Kundaliniyogas.
STATUS:CONFIRMED
SEQUENCE:0
END:VEVENT
END:VCALENDAR