BEGIN:VCALENDAR
VERSION:2.0
CALSCALE:GREGORIAN
BEGIN:VEVENT
SUMMARY:Dein Geburtsvorbereitungskurs mit Hebamme Olga Malzew
DTSTART;TZID=Europe/Amsterdam:20240420T100000
DTEND;TZID=Europe/Amsterdam:20240420T180000
LOCATION:Yoga up your life
DESCRIPTION: Erfahre alles über deine Geburt. Olga ist Hebamme aus Leidenschaft und mit ihrer wunderbaren Fachexpertise wirst Du mit einem Köfferchen voller wertvollen Wissen und Tools in deine selbst bestimmte Geburt gehen. Die TeilnehmerInnen Zahl ist auf maximal 15 Personen begrenzt.
STATUS:CONFIRMED
SEQUENCE:0
END:VEVENT
END:VCALENDAR