BEGIN:VCALENDAR
VERSION:2.0
CALSCALE:GREGORIAN
BEGIN:VEVENT
SUMMARY:Hatha Yoga &amp; Yin Yoga mit Shirley
DTSTART;TZID=Europe/Amsterdam:20240402T173000
DTEND;TZID=Europe/Amsterdam:20240402T184500
LOCATION:Yoga up your life: Sandstraße 130 in 51379 Leverkusen
DESCRIPTION: 
STATUS:CONFIRMED
SEQUENCE:0
END:VEVENT
END:VCALENDAR