BEGIN:VCALENDAR
VERSION:2.0
CALSCALE:GREGORIAN
BEGIN:VEVENT
SUMMARY:Magisches Yin-Yoga Special zum Ausklang der Rauhnächte mit Kim &amp; Stephie
DTSTART;TZID=Europe/Amsterdam:20250105T180000
DTEND;TZID=Europe/Amsterdam:20250105T193000
LOCATION:Yoga up your life: Sandstraße 130 in 51379 Leverkusen
DESCRIPTION: ———————————————
👏🏻Magisches Yin-Yoga Special zum Ausklang der Rauhnächte mit Kim &amp;amp; Stephie 👏🏻
———————————————
*✨ Tauche ein in die Magie der Rauhnächte ✨*

*Erlebe die Magie. Fühle die Ruhe. Sei ganz bei dir.*  

Lass das Alte los und begrüße 2025 voller Kraft und Balance – in einem ganz besonderen *Yin Yoga Special*, das *Kim und Stephie* gemeinsam für dich gestalten.  

Am *Sonntag, 5. Januar 2025** von *16:00 bis 17:30 Uhr* wirst du liebevoll durch tiefe Yin-Haltungen begleitet. Mit achtsamen *Hands-on-Assists* und wunderschönen Inspirationen erschaffen Kim und Stephie eine magische Atmosphäre, in der du vollkommen loslassen und neue Energie tanken kannst.  

In diesem einzigartigen Erlebnis zum *Ausklang der Rauhnächte* findest du deine Balance und startest gestärkt ins neue Jahr.  

📍 **Ort:** Yoga up your life  
💳 **Preis:** 1 Credit Kursstunde  

*Melde dich jetzt HIER an und sichere dir deinen Platz – die Teilnehmerzahl ist begrenzt!*
LIVE TEILNAHME: 

ONLINE TEILNAHME:
https://www.momoyoga.com/yoga-up-your-life/lesson/20858702/magisches-yin-yoga-special-zum-ausklang-der-rauhnachte-mit-kim-stephie
STATUS:CONFIRMED
SEQUENCE:0
END:VEVENT
END:VCALENDAR