BEGIN:VCALENDAR
VERSION:2.0
CALSCALE:GREGORIAN
BEGIN:VEVENT
SUMMARY:„Die Kraft des Herzens&quot; mit Coachin Jolanta Kucharowski: &quot;Familie im Gleichgewicht- Deinen Platz im System finden&quot;
DTSTART;TZID=Europe/Amsterdam:20250426T123000
DTEND;TZID=Europe/Amsterdam:20250426T140000
LOCATION:Yoga up your life: Sandstraße 130 in 51379 Leverkusen
DESCRIPTION: !!! Die Buchung erfolgt direkt bei Jolanta:
Kucharowski@web.de
0177 5180277
STATUS:CONFIRMED
SEQUENCE:0
END:VEVENT
END:VCALENDAR