BEGIN:VCALENDAR
VERSION:2.0
CALSCALE:GREGORIAN
BEGIN:VEVENT
SUMMARY:Eltern Kind Yoga: (3 bis 6 Jahre alt)Thema: &quot;Zirkus-Tiere-Frühling&quot;
DTSTART;TZID=Europe/Amsterdam:20250329T153000
DTEND;TZID=Europe/Amsterdam:20250329T163000
LOCATION:Yoga up your life: Sandstraße 130 in 51379 Leverkusen
DESCRIPTION: 
STATUS:CONFIRMED
SEQUENCE:0
END:VEVENT
END:VCALENDAR