BEGIN:VCALENDAR
VERSION:2.0
CALSCALE:GREGORIAN
BEGIN:VEVENT
SUMMARY:Di 18:30 HATHA Yoga
DTSTART;TZID=Europe/Amsterdam:20201020T183000
DTEND;TZID=Europe/Amsterdam:20201020T194500
LOCATION:Burg Sagenhaft- Leichlingen
DESCRIPTION: HATHA Yoga
STATUS:CONFIRMED
SEQUENCE:0
END:VEVENT
END:VCALENDAR