BEGIN:VCALENDAR
VERSION:2.0
CALSCALE:GREGORIAN
BEGIN:VEVENT
SUMMARY:20:00  Uhr HATHA Yoga (für Di 13.10)
DTSTART;TZID=Europe/Amsterdam:20201015T200000
DTEND;TZID=Europe/Amsterdam:20201015T211500
LOCATION:Burg Sagenhaft
DESCRIPTION: Ersatztermin für Dienstag  den 13. Oktober um 20:00 Uhr -Bitte beachtet, der Kurs findet in der Burg Sagenhaft Yoga Leichlingen statt.
STATUS:CONFIRMED
SEQUENCE:0
END:VEVENT
END:VCALENDAR