BEGIN:VCALENDAR
VERSION:2.0
CALSCALE:GREGORIAN
BEGIN:VEVENT
SUMMARY:ONLINE: Di 20 Uhr HATHA Yoga
DTSTART;TZID=Europe/Amsterdam:20201027T200000
DTEND;TZID=Europe/Amsterdam:20201027T211500
LOCATION:Burg Sagenhaft- Leichlingen
DESCRIPTION: https://global.gotomeeting.com/join/802925789
STATUS:CONFIRMED
SEQUENCE:0
END:VEVENT
END:VCALENDAR