BEGIN:VCALENDAR
VERSION:2.0
CALSCALE:GREGORIAN
BEGIN:VEVENT
SUMMARY:ONLINE: Do 8:45 Uhr HATHA Yoga
DTSTART;TZID=Europe/Amsterdam:20201029T084500
DTEND;TZID=Europe/Amsterdam:20201029T100000
LOCATION:Burg Sagenhaft- Leichlingen
DESCRIPTION: https://global.gotomeeting.com/join/487258557
STATUS:CONFIRMED
SEQUENCE:0
END:VEVENT
END:VCALENDAR