BEGIN:VCALENDAR
VERSION:2.0
CALSCALE:GREGORIAN
BEGIN:VEVENT
SUMMARY:ONLINE: Rückbildungs-Yoga
DTSTART;TZID=Europe/Amsterdam:20201025T103000
DTEND;TZID=Europe/Amsterdam:20201025T120000
LOCATION:Burg Sagenhaft- Leichlingen
DESCRIPTION: https://global.gotomeeting.com/join/511647621
STATUS:CONFIRMED
SEQUENCE:0
END:VEVENT
END:VCALENDAR