BEGIN:VCALENDAR
VERSION:2.0
CALSCALE:GREGORIAN
BEGIN:VEVENT
SUMMARY:ONLINE: 13:45 Schwangeren Yoga
DTSTART;TZID=Europe/Amsterdam:20201023T134500
DTEND;TZID=Europe/Amsterdam:20201023T150000
LOCATION:Live: TANZSTELLE
DESCRIPTION: https://global.gotomeeting.com/join/774581965
STATUS:CONFIRMED
SEQUENCE:0
END:VEVENT
END:VCALENDAR