BEGIN:VCALENDAR
VERSION:2.0
CALSCALE:GREGORIAN
BEGIN:VEVENT
SUMMARY:Yoga Intensiv Workshop: &quot;Kräftige deinen Beckenboden&quot;
DTSTART;TZID=Europe/Amsterdam:20210227T150000
DTEND;TZID=Europe/Amsterdam:20210227T180000
LOCATION:Online: GoToMeeting
DESCRIPTION: 
STATUS:CONFIRMED
SEQUENCE:0
END:VEVENT
END:VCALENDAR