BEGIN:VCALENDAR
VERSION:2.0
CALSCALE:GREGORIAN
BEGIN:VEVENT
SUMMARY:Yoga Auszeit in der Villa Camena (Schloss Auel, Lohmar)
DTSTART;TZID=Europe/Amsterdam:20210603T150000
DTEND;TZID=Europe/Amsterdam:20210603T235900
LOCATION:Villa Camena, Lohmar
DESCRIPTION: Yoga Auszeit vom Donnerstag 3. Juni bis Sonntag 6. Juni.
STATUS:CONFIRMED
SEQUENCE:0
END:VEVENT
END:VCALENDAR