BEGIN:VCALENDAR
VERSION:2.0
CALSCALE:GREGORIAN
BEGIN:VEVENT
SUMMARY:Meditation
DTSTART;TZID=Europe/Amsterdam:20210612T094500
DTEND;TZID=Europe/Amsterdam:20210612T101500
LOCATION:Online
DESCRIPTION: Sei achtsam- sitze in der Stille und lerne deinen Geist kennen.
STATUS:CONFIRMED
SEQUENCE:0
END:VEVENT
END:VCALENDAR