BEGIN:VCALENDAR
VERSION:2.0
CALSCALE:GREGORIAN
BEGIN:VEVENT
SUMMARY:Vinyasa Flow
DTSTART;TZID=Europe/Dublin:20210925T093000
DTEND;TZID=Europe/Dublin:20210925T103000
LOCATION:Marina Village Outdoor
DESCRIPTION: Brisk back bending flow to build up heat and energy for the week ahead. No experience necessary. Marina Village Greystones, Outdoor class.
STATUS:CONFIRMED
SEQUENCE:0
END:VEVENT
END:VCALENDAR