BEGIN:VCALENDAR
VERSION:2.0
CALSCALE:GREGORIAN
BEGIN:VEVENT
SUMMARY:Yoga, Lunch, Hike half day retreat
DTSTART;TZID=Europe/Dublin:20211017T090000
DTEND;TZID=Europe/Dublin:20211017T143000
LOCATION:Marina Village
DESCRIPTION: Vinyasa and yin class, hike up Bray Head, Cacao, vegan lunch, homemade vegan treats, sea swim and sauna!!
STATUS:CONFIRMED
SEQUENCE:0
END:VEVENT
END:VCALENDAR