BEGIN:VCALENDAR
VERSION:2.0
CALSCALE:GREGORIAN
BEGIN:VEVENT
SUMMARY:Yoga Class Recording
DTSTART;TZID=Europe/London:20201012T120000
DTEND;TZID=Europe/London:20201012T121500
LOCATION:Living Room
DESCRIPTION: A copy of this weeks and the last 2 weeks recording, so 3 to choose from.
STATUS:CONFIRMED
SEQUENCE:0
END:VEVENT
END:VCALENDAR