BEGIN:VCALENDAR
VERSION:2.0
CALSCALE:GREGORIAN
BEGIN:VEVENT
SUMMARY:Blissful Yin Yoga
DTSTART;TZID=Europe/London:20210319T190000
DTEND;TZID=Europe/London:20210319T210000
LOCATION:Living Room
DESCRIPTION: A Yin class for restoring the bliss in your life. This is a very slow passed class, where we will hold postures for longer period&#039;s of time, allowing us to work into both the muscles and the joints of the body. With an extended relaxation at the end.   Prop&#039;s at the ready, blocks, pillows, blankets.
STATUS:CONFIRMED
SEQUENCE:0
END:VEVENT
END:VCALENDAR