BEGIN:VCALENDAR
VERSION:2.0
CALSCALE:GREGORIAN
BEGIN:VEVENT
SUMMARY:Yoga du jeudi
DTSTART;TZID=Europe/Paris:20260326T090000
DTEND;TZID=Europe/Paris:20260326T103000
LOCATION:La Clairière, Pantin
DESCRIPTION: 
STATUS:CONFIRMED
SEQUENCE:0
END:VEVENT
END:VCALENDAR