BEGIN:VCALENDAR
VERSION:2.0
CALSCALE:GREGORIAN
BEGIN:VEVENT
SUMMARY:Yoga du jeudi
DTSTART;TZID=Europe/Paris:20260319T090000
DTEND;TZID=Europe/Paris:20260319T142000
LOCATION:La Clairière, Pantin
DESCRIPTION: cours semi privé
STATUS:CONFIRMED
SEQUENCE:0
END:VEVENT
END:VCALENDAR