BEGIN:VCALENDAR
VERSION:2.0
CALSCALE:GREGORIAN
BEGIN:VEVENT
SUMMARY:ZOOM THURSDAYS: ONLINE JIVAMUKTI YOGA-EXPERIENCED LEVEL
DTSTART;TZID=Europe/Amsterdam:20251030T190000
DTEND;TZID=Europe/Amsterdam:20251030T203000
LOCATION:ZOOM
DESCRIPTION: Live Zoom Class from Amsterdam.... work on your home practice and get a sweat on with Karo taught straight from her living room!

Experienced Level! Not for beginners.....
STATUS:CONFIRMED
SEQUENCE:0
END:VEVENT
END:VCALENDAR