BEGIN:VCALENDAR
VERSION:2.0
CALSCALE:GREGORIAN
BEGIN:VEVENT
SUMMARY:Reiki Level 1 Training
DTSTART;TZID=Europe/London:20230906T200000
DTEND;TZID=Europe/London:20230906T210000
LOCATION:The Institute, Aberdour
DESCRIPTION: Learn to use Reiki for your own self care and for your family. Reiki is a Japanese “hands on” meditation practice/holistic therapy that calms, relaxes and centres. Learn more about Reiki via the link
STATUS:CONFIRMED
SEQUENCE:0
END:VEVENT
END:VCALENDAR