BEGIN:VCALENDAR
VERSION:2.0
CALSCALE:GREGORIAN
BEGIN:VEVENT
SUMMARY:Restorative Rest
DTSTART;TZID=America/Toronto:20211130T190000
DTEND;TZID=America/Toronto:20211130T200000
LOCATION:125 Circle Place
DESCRIPTION: Settling into our body,  giving it permission to rest in fully supported poses!
STATUS:CONFIRMED
SEQUENCE:0
END:VEVENT
END:VCALENDAR