BEGIN:VCALENDAR
VERSION:2.0
CALSCALE:GREGORIAN
BEGIN:VEVENT
SUMMARY:Gratitude Mediation &amp; Sound Bath
DTSTART;TZID=America/Toronto:20211221T190000
DTEND;TZID=America/Toronto:20211221T200000
LOCATION:125 Circle Place
DESCRIPTION: Bring a pillow, cozy blanket!
Zero movement class!
A class to simply be present with yourself!
STATUS:CONFIRMED
SEQUENCE:0
END:VEVENT
END:VCALENDAR