BEGIN:VCALENDAR
VERSION:2.0
CALSCALE:GREGORIAN
BEGIN:VEVENT
SUMMARY:Morning Yoga Flow
DTSTART;TZID=America/Toronto:20220218T091500
DTEND;TZID=America/Toronto:20220218T101500
LOCATION:125 Circle Place
DESCRIPTION: Starting our day with gentle movement and good intention!
STATUS:CONFIRMED
SEQUENCE:0
END:VEVENT
END:VCALENDAR