BEGIN:VCALENDAR
VERSION:2.0
CALSCALE:GREGORIAN
BEGIN:VEVENT
SUMMARY:Hatha yoga con cuencos tibetanos 🥰
DTSTART;TZID=Europe/Madrid:20220312T094500
DTEND;TZID=Europe/Madrid:20220312T110000
LOCATION:Centro de Yoga Actos y Palabras 🧘🏼‍♂️
DESCRIPTION: 
STATUS:CONFIRMED
SEQUENCE:0
END:VEVENT
END:VCALENDAR