BEGIN:VCALENDAR
VERSION:2.0
CALSCALE:GREGORIAN
BEGIN:VEVENT
SUMMARY:Yoga avec Edith au Yoga Shala
DTSTART;TZID=Europe/Paris:20250623T183000
DTEND;TZID=Europe/Paris:20250623T193000
LOCATION:Yoga Shala
DESCRIPTION: Vous vous inscrivez ici pour une séance de yoga au Yoga Shala
STATUS:CONFIRMED
SEQUENCE:0
END:VEVENT
END:VCALENDAR