BEGIN:VCALENDAR
VERSION:2.0
CALSCALE:GREGORIAN
BEGIN:VEVENT
SUMMARY:Atelier Ouverture du cœur
DTSTART;TZID=Europe/Paris:20250212T183000
DTEND;TZID=Europe/Paris:20250212T203000
LOCATION:Yoga Shala
DESCRIPTION: Pour la Saint Valentin, et pour se préparer en douceur à la fin de l’hiver, je vous propose un atelier d’ouverture.
En prenant soin de notre dos, notre cou et nos épaules, en visitant notre souffle, nous explorerons différentes façons d’ouvrir nos poumons et notre cœur.
Une belle façon d’accueillir la Joie !

De 18h30 à 20h30, 
participation 30€ sur place
STATUS:CONFIRMED
SEQUENCE:0
END:VEVENT
END:VCALENDAR