BEGIN:VCALENDAR
VERSION:2.0
CALSCALE:GREGORIAN
BEGIN:VEVENT
SUMMARY:Yoga du rire avec Jennifer
DTSTART;TZID=Europe/Paris:20260110T150000
DTEND;TZID=Europe/Paris:20260110T160000
LOCATION:Yoga Shala
DESCRIPTION: Une séance d&#039;une heure pour découvrir ou retrouver le Yoga du Rire avec Jennifer et commencer l&#039;année dans la Joie !
Venez boostez votre énergie, rire, respirer, vous détendre, vivre l&#039;instant présent.
Le rire augmente l&#039;énergie et la vitalité, stimule la bonne humeur, libère les tensions physiques et mentales.
Repartez rempli de joie

Participation sur place, en espèces : 15€ - inscription nécessaire en ligne
STATUS:CONFIRMED
SEQUENCE:0
END:VEVENT
END:VCALENDAR