BEGIN:VCALENDAR
VERSION:2.0
CALSCALE:GREGORIAN
BEGIN:VEVENT
SUMMARY:HAPPY YOGA DAYS - Edith - Yoga Iyengar
DTSTART;TZID=Europe/Paris:20260529T150000
DTEND;TZID=Europe/Paris:20260529T160000
LOCATION:Yoga Shala
DESCRIPTION: Alignement et ouverture
Ouverture à la joie du yoga dans la précision et l&#039;alignement
STATUS:CONFIRMED
SEQUENCE:0
END:VEVENT
END:VCALENDAR