BEGIN:VCALENDAR
VERSION:2.0
CALSCALE:GREGORIAN
BEGIN:VEVENT
SUMMARY:HAPPY YOGA DAYS - Solène- Qoya
DTSTART;TZID=Europe/Paris:20260529T190000
DTEND;TZID=Europe/Paris:20260529T203000
LOCATION:Yoga Shala
DESCRIPTION: Donner naissance à ses rêves
Une pratique de mouvement inspirée de la danse libre et du yoga
STATUS:CONFIRMED
SEQUENCE:0
END:VEVENT
END:VCALENDAR