BEGIN:VCALENDAR
VERSION:2.0
CALSCALE:GREGORIAN
BEGIN:VEVENT
SUMMARY:HAPPY YOGA DAYS - Annie - Hatha Yoga
DTSTART;TZID=Europe/Paris:20260530T120000
DTEND;TZID=Europe/Paris:20260530T130000
LOCATION:Yoga Shala
DESCRIPTION: Un dos souple et tonique
Etirement, assouplissement, renforcement avec conscience et douceur
STATUS:CONFIRMED
SEQUENCE:0
END:VEVENT
END:VCALENDAR