BEGIN:VCALENDAR
VERSION:2.0
CALSCALE:GREGORIAN
BEGIN:VEVENT
SUMMARY:HAPPY YOGA DAYS - Sophie R - Voyage Sonore
DTSTART;TZID=Europe/Paris:20260530T190000
DTEND;TZID=Europe/Paris:20260530T200000
LOCATION:Yoga Shala
DESCRIPTION: Relaxation profonde aux sons de divers instruments ( bols, gongs...)
STATUS:CONFIRMED
SEQUENCE:0
END:VEVENT
END:VCALENDAR