BEGIN:VCALENDAR
VERSION:2.0
CALSCALE:GREGORIAN
BEGIN:VEVENT
SUMMARY:HAPPY YOGA DAYS - Dominique - Yoga Contact
DTSTART;TZID=Europe/Paris:20260531T190000
DTEND;TZID=Europe/Paris:20260531T200000
LOCATION:Yoga Shala
DESCRIPTION: Une pratique de Hatha Yoga avec des postures en binôme ou à plusieurs
STATUS:CONFIRMED
SEQUENCE:0
END:VEVENT
END:VCALENDAR