BEGIN:VCALENDAR
VERSION:2.0
CALSCALE:GREGORIAN
BEGIN:VEVENT
SUMMARY:HAPPY YOGA DAYS - Solène - massage sonore
DTSTART;TZID=Europe/Paris:20260530T111500
DTEND;TZID=Europe/Paris:20260530T114500
LOCATION:Yoga Shala
DESCRIPTION: Un moment de relaxation grâce au son des bols tibétains
Environ 30 minutes
Non inclus dans le Pass, participation libre et consciente directement à Solène
STATUS:CONFIRMED
SEQUENCE:0
END:VEVENT
END:VCALENDAR