BEGIN:VCALENDAR
VERSION:2.0
CALSCALE:GREGORIAN
BEGIN:VEVENT
SUMMARY:Vinyasa Yoga
DTSTART;TZID=Europe/Amsterdam:20170310T090000
DTEND;TZID=Europe/Amsterdam:20170310T101500
LOCATION:Graanzolder
DESCRIPTION: In verband met afwezigheid van Antje wordt de les vervangen door Colette Edelenbosch.
STATUS:CONFIRMED
SEQUENCE:0
END:VEVENT
END:VCALENDAR