BEGIN:VCALENDAR
VERSION:2.0
CALSCALE:GREGORIAN
BEGIN:VEVENT
SUMMARY:Kundalini Yoga
DTSTART;TZID=Europe/Amsterdam:20171019T110000
DTEND;TZID=Europe/Amsterdam:20171019T120000
LOCATION:Graanzolder
DESCRIPTION: Dee les wordt om administratieve redenen opgevoerd ivm vakantie
STATUS:CONFIRMED
SEQUENCE:0
END:VEVENT
END:VCALENDAR